BEGIN:VCALENDAR
VERSION:2.0
PRODID:-//Magnolia Foods - ECPv6.15.15//NONSGML v1.0//EN
CALSCALE:GREGORIAN
METHOD:PUBLISH
X-ORIGINAL-URL:http://www.magnoliafoods.com
X-WR-CALDESC:Events for Magnolia Foods
REFRESH-INTERVAL;VALUE=DURATION:PT1H
X-Robots-Tag:noindex
X-PUBLISHED-TTL:PT1H
BEGIN:VTIMEZONE
TZID:America/New_York
BEGIN:DAYLIGHT
TZOFFSETFROM:-0500
TZOFFSETTO:-0400
TZNAME:EDT
DTSTART:20250309T070000
END:DAYLIGHT
BEGIN:STANDARD
TZOFFSETFROM:-0400
TZOFFSETTO:-0500
TZNAME:EST
DTSTART:20251102T060000
END:STANDARD
BEGIN:DAYLIGHT
TZOFFSETFROM:-0500
TZOFFSETTO:-0400
TZNAME:EDT
DTSTART:20260308T070000
END:DAYLIGHT
BEGIN:STANDARD
TZOFFSETFROM:-0400
TZOFFSETTO:-0500
TZNAME:EST
DTSTART:20261101T060000
END:STANDARD
BEGIN:DAYLIGHT
TZOFFSETFROM:-0500
TZOFFSETTO:-0400
TZNAME:EDT
DTSTART:20270314T070000
END:DAYLIGHT
BEGIN:STANDARD
TZOFFSETFROM:-0400
TZOFFSETTO:-0500
TZNAME:EST
DTSTART:20271107T060000
END:STANDARD
END:VTIMEZONE
BEGIN:VEVENT
DTSTART;TZID=America/New_York:20260130T170000
DTEND;TZID=America/New_York:20260130T190000
DTSTAMP:20260421T093443
CREATED:20260114T211550Z
LAST-MODIFIED:20260114T211550Z
UID:1399-1769792400-1769799600@www.magnoliafoods.com
SUMMARY:Friday Wine Tastings
DESCRIPTION:Join Magnolia Foods every Friday from 5-7 PM for our regular Wine Tastings. $10 per person includes pours of our favorite Red\, White and Sparkling wines.  \nTry a new wine and elevate your Friday happy hour with us. 
URL:http://www.magnoliafoods.com/event/friday-wine-tastings-2/
LOCATION:Magnolia Foods\, 2476 Rivermont Ave\, Lynchburg\, Virginia\, 24503\, United States
CATEGORIES:Friday Wine Tastings
END:VEVENT
BEGIN:VEVENT
DTSTART;TZID=America/New_York:20260123T170000
DTEND;TZID=America/New_York:20260123T190000
DTSTAMP:20260421T093443
CREATED:20260114T210824Z
LAST-MODIFIED:20260114T211705Z
UID:1396-1769187600-1769194800@www.magnoliafoods.com
SUMMARY:Friday Wine Tastings
DESCRIPTION:Join Magnolia Foods every Friday from 5-7 PM for our regular Wine Tastings. $10 per person includes pours of our favorite Red\, White and Sparkling wines.  \nTry a new wine and elevate your Friday happy hour with us. 
URL:http://www.magnoliafoods.com/event/friday-wine-tastings/
LOCATION:Magnolia Foods\, 2476 Rivermont Ave\, Lynchburg\, Virginia\, 24503\, United States
CATEGORIES:Friday Wine Tastings
END:VEVENT
END:VCALENDAR